BEGIN:VCALENDAR
VERSION:2.0
PRODID:-//HTX Senior Nonprofit Cleaning Service - ECPv6.6.4//NONSGML v1.0//EN
CALSCALE:GREGORIAN
METHOD:PUBLISH
X-WR-CALNAME:HTX Senior Nonprofit Cleaning Service
X-ORIGINAL-URL:https://www.lovingimpactseniorassistant.org
X-WR-CALDESC:Events for HTX Senior Nonprofit Cleaning Service
REFRESH-INTERVAL;VALUE=DURATION:PT1H
X-Robots-Tag:noindex
X-PUBLISHED-TTL:PT1H
BEGIN:VTIMEZONE
TZID:UTC
BEGIN:STANDARD
TZOFFSETFROM:+0000
TZOFFSETTO:+0000
TZNAME:UTC
DTSTART:20240101T000000
END:STANDARD
END:VTIMEZONE
BEGIN:VEVENT
DTSTART;VALUE=DATE:20250210
DTEND;VALUE=DATE:20250216
DTSTAMP:20260421T234607
CREATED:20240914T180729Z
LAST-MODIFIED:20240914T180729Z
UID:21076-1739145600-1739663999@www.lovingimpactseniorassistant.org
SUMMARY:Love Your Neighbor Volunteer Day
DESCRIPTION:Event Details: February is all about love\, and we’re inviting you to show love to our senior community by participating in our Love Your Neighbor Volunteer Day. This one-day event will focus on cleaning and organizing. \nHow to Participate: \nVolunteer: Sign up for a shift during the day. We’ll provide all the necessary tools and supplies. \nSupport: If you can’t volunteer\, consider donating to help cover the cost of supplies or sponsor a senior’s home for $75. \nRegistration: Volunteers will be assigned to a team and given a specific task to ensure we maximize our impact.\nEvent Details and Participation Information \nVolunteers: To volunteer for any of our events\, please visit our website and complete the volunteer registration form. You’ll receive confirmation and additional details via email. \nDonations: Donations can be made securely online through our website. Choose the event you wish to support or make a general donation. \nContact Us: For any questions or additional information\, please reach out to us.\nThank you for your continued support and dedication to making a difference in our seniors’ lives. Together\, we can create a more Loving Impact on our Seniors with assistance.
URL:https://www.lovingimpactseniorassistant.org/event/love-your-neighbor-volunteer-day/
END:VEVENT
BEGIN:VEVENT
DTSTART;VALUE=DATE:20241215
DTEND;VALUE=DATE:20250101
DTSTAMP:20260421T234607
CREATED:20240914T180423Z
LAST-MODIFIED:20240914T180423Z
UID:21074-1734220800-1735689599@www.lovingimpactseniorassistant.org
SUMMARY:Year-End Giving Campaign
DESCRIPTION:Event Details: As the year comes to a close\, we’re launching our Year-End Giving Campaign to raise funds for our 2025 programs. Every dollar raised will go directly toward expanding our services and reaching more seniors in need. This campaign is critical to our mission\, and we’re aiming to raise $20\,000 by the end of December. \nHow to Support: \nDonate: Make a one-time or recurring donation through our secure online donation form. All donations made during this campaign are tax-deductible. \nSpread the Word: Share our campaign on social media and encourage others to support our cause.
URL:https://www.lovingimpactseniorassistant.org/event/year-end-giving-campaign/
END:VEVENT
BEGIN:VEVENT
DTSTART;VALUE=DATE:20241205
DTEND;VALUE=DATE:20241213
DTSTAMP:20260421T234607
CREATED:20240914T180234Z
LAST-MODIFIED:20240914T180234Z
UID:21072-1733356800-1734047999@www.lovingimpactseniorassistant.org
SUMMARY:Holiday Home Makeover
DESCRIPTION:Event Details: Help us spread holiday cheer by participating in our Holiday Home Makeover event! We’ll be providing deep cleaning and festive decorations for seniors’ homes to brighten up their holiday season. This is a wonderful opportunity to make a direct impact and bring joy to seniors who may be spending the holidays alone. \nHow to Participate: \nVolunteer: Join our team to clean homes. Support: Sponsor a cleaning for $150. Your contribution will ensure a senior enjoy a warm and festive holiday atmosphere. \nRegistration: Register to volunteer or donate. Volunteers can choose their preferred day to participate during the week of the event.
URL:https://www.lovingimpactseniorassistant.org/event/holiday-home-makeover/
END:VEVENT
BEGIN:VEVENT
DTSTART;VALUE=DATE:20241015
DTEND;VALUE=DATE:20241101
DTSTAMP:20260421T234607
CREATED:20240914T122624Z
LAST-MODIFIED:20240914T122624Z
UID:21067-1728950400-1730419199@www.lovingimpactseniorassistant.org
SUMMARY:Fall Clean Sweep Campaign
DESCRIPTION:Event Details: Join us in our Fall Clean Sweep Campaign! Throughout the second half of October\, we’re rallying volunteers to help clean and organize senior homes across the community. This campaign is all about preparing homes for the winter season by decluttering\, deep cleaning\, and ensuring safe living conditions for our seniors. \nHow to Participate: \n Volunteer: Sign up to volunteer for a day or multiple days during the campaign. No experience is necessary\, just a willingness to help! \nDonate: Support the campaign by donating cleaning supplies or funds to help us purchase materials. You can also sponsor a senior’s home cleaning for $100. \nAll volunteers will receive a complimentary Loving Impact Senior Assistance t-shirt.
URL:https://www.lovingimpactseniorassistant.org/event/fall-clean-sweep-campaign/
END:VEVENT
END:VCALENDAR